BEGIN:VCALENDAR
PRODID:-//My Swim Results//Meet Calendar//EN
VERSION:2.0
METHOD:PUBLISH
BEGIN:VEVENT
DTSTART;VALUE=DATE:20180331
DTEND;VALUE=DATE:20180402
DTSTAMP:20170529T030426Z
SEQUENCE:0
STATUS:CONFIRMED
SUMMARY:SunSmart City vs Country Challenge
LOCATION:HBF Stadium
DESCRIPTION:http://www.myswimresults.com.au/Meet.aspx?MeetID=AUS|3748
UID:2007697f-b24c-4cb4-b087-55f80ac16884
CLASS:PUBLIC
TRANSP:OPAQUE
END:VEVENT
END:VCALENDAR
