BEGIN:VCALENDAR
PRODID:-//My Swim Results//Meet Calendar//EN
VERSION:2.0
METHOD:PUBLISH
BEGIN:VEVENT
DTSTART;VALUE=DATE:20240714
DTEND;VALUE=DATE:20240715
DTSTAMP:20240530T055728Z
SEQUENCE:0
STATUS:CONFIRMED
SUMMARY:2024 ABCCC Riverton Masters
LOCATION:Riverton Leisureplex
DESCRIPTION:http://www.myswimresults.com.au/Meet.aspx?MeetID=MAU|53
UID:9189234e-4de7-45ae-a4ed-7c9029e2c3f3
CLASS:PUBLIC
TRANSP:OPAQUE
END:VEVENT
END:VCALENDAR
