BEGIN:VCALENDAR
PRODID:-//My Swim Results//Meet Calendar//EN
VERSION:2.0
METHOD:PUBLISH
BEGIN:VEVENT
DTSTART;VALUE=DATE:20240825
DTEND;VALUE=DATE:20240826
DTSTAMP:20240612T144546Z
SEQUENCE:0
STATUS:CONFIRMED
SUMMARY:2024 Somerset 1500m Event
LOCATION:AquaLife
DESCRIPTION:http://www.myswimresults.com.au/Meet.aspx?MeetID=MAU|55
UID:66a0ea50-ba5f-4966-a284-ab08bcf4de52
CLASS:PUBLIC
TRANSP:OPAQUE
END:VEVENT
END:VCALENDAR
