BEGIN:VCALENDAR
PRODID:-//My Swim Results//Meet Calendar//EN
VERSION:2.0
METHOD:PUBLISH
BEGIN:VEVENT
DTSTART;VALUE=DATE:20260215
DTEND;VALUE=DATE:20260216
DTSTAMP:20251207T222806Z
SEQUENCE:0
STATUS:CONFIRMED
SUMMARY:Newman Churchlands ABC Club Challenge 2026
LOCATION:Newman College
DESCRIPTION:http://www.myswimresults.com.au/Meet.aspx?MeetID=MAU|76
UID:e720dbf8-b283-4c2d-a7da-d32c2208c139
CLASS:PUBLIC
TRANSP:OPAQUE
END:VEVENT
END:VCALENDAR
